BEGIN:VCALENDAR
VERSION:2.0
PRODID:www.codnes.sk
BEGIN:VEVENT
UID:69e74281a721d
DTSTART:20260315T180000Z
SEQUENCE:0
TRANSP:OPAQUE
LOCATION:Revúca
SUMMARY:ZLATÁ BAŇA – divadelná komédia
CLASS:PUBLIC
DESCRIPTION: \n \nKomédia Reneho Freunda:ZLATÁ BAŇA\nSkvelá komédia\
 , ktorá sa odohráva v atraktívnom prostredí súkr
DTSTAMP:20260421T092521Z
END:VEVENT
END:VCALENDAR