BEGIN:VCALENDAR
VERSION:2.0
PRODID:www.codnes.sk
BEGIN:VEVENT
UID:69e7425c23d42
DTSTART:20260313T190000Z
SEQUENCE:0
TRANSP:OPAQUE
LOCATION:Banská Bystrica
SUMMARY:VIVALDI HUDBA PRI SVIEČKACH
CLASS:PUBLIC
DESCRIPTION:Nezmeškajte tento jedinečný koncert\, na ktorom zaznejú nes
 mrteľné klasické diela talianskeho skladat
DTSTAMP:20260421T092444Z
END:VEVENT
END:VCALENDAR