BEGIN:VCALENDAR
VERSION:2.0
PRODID:www.codnes.sk
BEGIN:VEVENT
UID:69e9562631ce0
DTSTART:20250214T210000Z
SEQUENCE:0
TRANSP:OPAQUE
DTEND:20250214T235900Z
LOCATION:Bratislava
SUMMARY:Valentín’25
CLASS:PUBLIC
DESCRIPTION:💗BRATISLAVA💗Čas zaľúbených sa blíži a spolu s ním 
 prichádza aj najlepšia Valentínska párty roka! 🎉Už
DTSTAMP:20260422T231342Z
END:VEVENT
END:VCALENDAR