BEGIN:VCALENDAR
VERSION:2.0
PRODID:www.codnes.sk
BEGIN:VEVENT
UID:69eb4804a6a98
DTSTART:20260723T120000Z
SEQUENCE:0
TRANSP:OPAQUE
DTEND:99991231T005959Z
LOCATION:Banská Bystrica
SUMMARY:The Legits Blast 2026
CLASS:PUBLIC
DESCRIPTION:Join all the people coming from more than 90 countries every ye
 ar to celebrate Hip Hop Culture and m
DTSTAMP:20260424T103756Z
END:VEVENT
END:VCALENDAR