BEGIN:VCALENDAR
VERSION:2.0
PRODID:www.codnes.sk
BEGIN:VEVENT
UID:69ea2c08b0ce1
DTSTART:20260620T160000Z
SEQUENCE:0
TRANSP:OPAQUE
DTEND:20260621T030000Z
LOCATION:Pohorelá
SUMMARY:SVÄTOJÁNSKA NOC PLNÁ HUDBY 2026
CLASS:PUBLIC
DESCRIPTION:Hudobný festival SVÄTOJÁNSKA NOC PLNÁ HUDBY známy čarovno
 u a magickou atmosférou už po 15-krát otvor
DTSTAMP:20260423T142616Z
END:VEVENT
END:VCALENDAR