BEGIN:VCALENDAR
VERSION:2.0
PRODID:www.codnes.sk
BEGIN:VEVENT
UID:69e73435d1e3d
DTSTART:20220213T170000Z
SEQUENCE:0
TRANSP:OPAQUE
LOCATION:Bratislava
SUMMARY:Slovenská filharmónia\, cyklus O
CLASS:PUBLIC
DESCRIPTION:Nedeľa 13.2.2022 o 16.00 h\, Koncertná sieň SF\, cyklus O\nC
 ena vstupenky: 9 €\nKoncert v režime OP - Na
DTSTAMP:20260421T082421Z
END:VEVENT
END:VCALENDAR