BEGIN:VCALENDAR
VERSION:2.0
PRODID:www.codnes.sk
BEGIN:VEVENT
UID:69e74367a7a80
DTSTART:20260418T200000Z
SEQUENCE:0
TRANSP:OPAQUE
DTEND:20260418T235900Z
LOCATION:Banská Štiavnica
SUMMARY:Ruce naší Dory (CZ)
CLASS:PUBLIC
DESCRIPTION:Ruce naší Dory\, kapela dramatika a spisovateľa&nbsp\;S.d.Ch
 .\, hrá šansóny pre tretie tisícročie. Enig
DTSTAMP:20260421T092911Z
END:VEVENT
END:VCALENDAR