BEGIN:VCALENDAR
VERSION:2.0
PRODID:www.codnes.sk
BEGIN:VEVENT
UID:69ea2e0174b04
DTSTART:20260517T152100Z
SEQUENCE:0
TRANSP:OPAQUE
DTEND:20260517T192100Z
LOCATION:Banská Bystrica
SUMMARY:Rodinné nedele - Krajina pirátov
CLASS:PUBLIC
DESCRIPTION:🎭 Mestské divadlo Banská Bystrica📜 Krajina pirátov🏴
 ‍☠️ Interaktívne divadelné dobrodružstvo pre rodi
DTSTAMP:20260423T143441Z
END:VEVENT
END:VCALENDAR