BEGIN:VCALENDAR
VERSION:2.0
PRODID:www.codnes.sk
BEGIN:VEVENT
UID:69eb479db1fcc
DTSTART:20260725T093000Z
SEQUENCE:0
TRANSP:OPAQUE
LOCATION:Muráň
SUMMARY:Ródeo Muráň 2026
CLASS:PUBLIC
DESCRIPTION:PROGRAM:\n\n\n \n\n\nPiatok\, 24.júl:\n\n\n17:00  Kentucky J
 ack\n\n\n18:40  Nocadeň\n\n\n20:15  Kollárovci\n\n\n21:55
DTSTAMP:20260424T103613Z
END:VEVENT
END:VCALENDAR