BEGIN:VCALENDAR
VERSION:2.0
PRODID:www.codnes.sk
BEGIN:VEVENT
UID:69ed58b0c975c
DTSTART:20230527T210000Z
SEQUENCE:0
TRANSP:OPAQUE
LOCATION:Banská Bystrica
SUMMARY:Queen show – pocta legende
CLASS:PUBLIC
DESCRIPTION:QUEEN SHOW - pocta legendeStrhujúca hudobno tanečná muzikál
 ová showÚčinkujú špičkoví muzikáloví umel
DTSTAMP:20260426T001336Z
END:VEVENT
END:VCALENDAR