BEGIN:VCALENDAR
VERSION:2.0
PRODID:www.codnes.sk
BEGIN:VEVENT
UID:69e96d928c279
DTSTART:20230624T130000Z
SEQUENCE:0
TRANSP:OPAQUE
DTEND:20230624T170000Z
LOCATION:Banská Bystrica
SUMMARY:#PRIDE_BB 2023 / LOVE OR FEAR? POLYQUEER!
CLASS:PUBLIC
DESCRIPTION:Láska v rôznych podobách… Ľudia ju (vraj) prežívajú. M
 ajú o nej predstavu takmer všetci.www.prideban
DTSTAMP:20260423T005338Z
END:VEVENT
END:VCALENDAR