BEGIN:VCALENDAR
VERSION:2.0
PRODID:www.codnes.sk
BEGIN:VEVENT
UID:69ebde4cbf90c
DTSTART:20230526T190000Z
SEQUENCE:0
TRANSP:OPAQUE
DTEND:20230526T235900Z
LOCATION:Banská Bystrica
SUMMARY:PREMIÉRA Divadlo z Pasáže: Pískanie v tme
CLASS:PUBLIC
DESCRIPTION:Premiéra inscenácie o tom\, prečo sa bojíme. Aj nebojíme.&
 nbsp\;Podujatie z verejných zdrojov podporil
DTSTAMP:20260424T211908Z
END:VEVENT
END:VCALENDAR