BEGIN:VCALENDAR
VERSION:2.0
PRODID:www.codnes.sk
BEGIN:VEVENT
UID:69e7664c8b3c0
DTSTART:20260706T080000Z
SEQUENCE:0
TRANSP:OPAQUE
DTEND:20260706T153000Z
LOCATION:Banská Bystrica
SUMMARY:Prázdniny s remeslom
CLASS:PUBLIC
DESCRIPTION:Regionálne centrum remesiel ÚĽUV Banská Bystrica opäť org
 anizuje Prázdniny s remeslom formou denného tábora pre deti. Vyskúšaj
 ú si rôzne tradičné techniky v hrnčiarskej\, textilnej\, drotárskej 
 aj rezbárskej dielni.
DTSTAMP:20260421T115804Z
END:VEVENT
END:VCALENDAR