BEGIN:VCALENDAR
VERSION:2.0
PRODID:www.codnes.sk
BEGIN:VEVENT
UID:69e740dc5c107
DTSTART:20260421T190000Z
SEQUENCE:0
TRANSP:OPAQUE
LOCATION:Žarnovica
SUMMARY:PRAVDA
CLASS:PUBLIC
DESCRIPTION:Michel je úspešný\, šarmantný a sexi. A samozrejme\, vždy
  o krok pred ostatnými. \nTo\, že už pol roka
DTSTAMP:20260421T091820Z
END:VEVENT
END:VCALENDAR