BEGIN:VCALENDAR
VERSION:2.0
PRODID:www.codnes.sk
BEGIN:VEVENT
UID:69eb8ca962e9c
DTSTART:20250328T190000Z
SEQUENCE:0
TRANSP:OPAQUE
DTEND:20250328T235900Z
LOCATION:Badín
SUMMARY:Petr Lipa & Band+
CLASS:PUBLIC
DESCRIPTION:Príjemný hudobný večer v podaní jazzového majstra a jeho 
 bandu.
DTSTAMP:20260424T153049Z
END:VEVENT
END:VCALENDAR