BEGIN:VCALENDAR
VERSION:2.0
PRODID:www.codnes.sk
BEGIN:VEVENT
UID:69e77aba6caed
DTSTART:20260423T190000Z
SEQUENCE:0
TRANSP:OPAQUE
DTEND:20260423T210000Z
LOCATION:Banská Bystrica
SUMMARY:Pavol Hammel - Kam a za čím Tour 2026
CLASS:PUBLIC
DESCRIPTION:Pavol Hammel – Kam a za čím Tour&nbsp\;2026Počas celého r
 oka 2024 si Pavol Hammel so skupinou Prúdy p
DTSTAMP:20260421T132514Z
END:VEVENT
END:VCALENDAR