BEGIN:VCALENDAR
VERSION:2.0
PRODID:www.codnes.sk
BEGIN:VEVENT
UID:69e76a4bcb967
DTSTART:20260703T150000Z
SEQUENCE:0
TRANSP:OPAQUE
LOCATION:Svätý Anton
SUMMARY:Otvorenie leta s Mirom Jarošom
CLASS:PUBLIC
DESCRIPTION:&amp\;#127774\;Otvorenie leta – rodinné podujatie plné záb
 avy&amp\;#127774\;Pozývame vás na veľké rodinn
DTSTAMP:20260421T121507Z
END:VEVENT
END:VCALENDAR