BEGIN:VCALENDAR
VERSION:2.0
PRODID:www.codnes.sk
BEGIN:VEVENT
UID:69e77b6ac0ddd
DTSTART:20260425T203000Z
SEQUENCE:0
TRANSP:OPAQUE
LOCATION:Banská Bystrica
SUMMARY:NAŠE HNIEZDO - 35. výročie DFS Matičiarik z Banskej Bystrice
CLASS:PUBLIC
DESCRIPTION:Srdečne vás pozývame na slávnostný galaprogram pri príle
 žitosti 35. výročia\, ktoré oslavuje Detský f
DTSTAMP:20260421T132810Z
END:VEVENT
END:VCALENDAR