BEGIN:VCALENDAR
VERSION:2.0
PRODID:www.codnes.sk
BEGIN:VEVENT
UID:69e741d1c74d3
DTSTART:20260310T180000Z
SEQUENCE:0
TRANSP:OPAQUE
LOCATION:Brezno
SUMMARY:muzikál KUBO
CLASS:PUBLIC
DESCRIPTION:Najúspešnejší muzikál je opäť na scéne ! Prevalcoval aj
  Pražskú Hyberniu !\nPOCTA JOZEFOVI KRONEROVI
DTSTAMP:20260421T092225Z
END:VEVENT
END:VCALENDAR