BEGIN:VCALENDAR
VERSION:2.0
PRODID:www.codnes.sk
BEGIN:VEVENT
UID:69e767fd4a88f
DTSTART:20260704T100000Z
SEQUENCE:0
TRANSP:OPAQUE
LOCATION:Muráň
SUMMARY:MURÁNSKY OBOR 2026 – Rodinný víkend plný zážitkov\, koncert
 ov a atrakcií
CLASS:PUBLIC
DESCRIPTION:Rodinný víkend plný atrakcií a detských koncertov\, na kto
 rý sa deti tešia celý rok.\nPočas soboty a n
DTSTAMP:20260421T120517Z
END:VEVENT
END:VCALENDAR