BEGIN:VCALENDAR
VERSION:2.0
PRODID:www.codnes.sk
BEGIN:VEVENT
UID:69e77aba90a99
DTSTART:20260424T190000Z
SEQUENCE:0
TRANSP:OPAQUE
DTEND:20260424T235900Z
LOCATION:Hriňová
SUMMARY:Milión | 24.4. | Hriňová
CLASS:PUBLIC
DESCRIPTION:MiliónVilém Dubnička&nbsp\;Réžia - Jakub NvotaHrajú - Bra
 ňo Deak a Juraj BačaHudba - Mário BuzziProdu
DTSTAMP:20260421T132514Z
END:VEVENT
END:VCALENDAR