BEGIN:VCALENDAR
VERSION:2.0
PRODID:www.codnes.sk
BEGIN:VEVENT
UID:69e84ae12645c
DTSTART:20260515T200000Z
SEQUENCE:0
TRANSP:OPAQUE
DTEND:20260515T235900Z
LOCATION:Zvolen
SUMMARY:MARIA BOHOVA tour -BAR BAR Podzemie
CLASS:PUBLIC
DESCRIPTION:RNZ je slovenský rapper\, v ktorého tvorbe sa strieda výbuš
 nosť s melanchóliou\, ponorené do hudby s n
DTSTAMP:20260422T041321Z
END:VEVENT
END:VCALENDAR