BEGIN:VCALENDAR
VERSION:2.0
PRODID:www.codnes.sk
BEGIN:VEVENT
UID:69eb741a1fef2
DTSTART:20260420T180000Z
SEQUENCE:0
TRANSP:OPAQUE
DTEND:20260420T220000Z
LOCATION:Banská Bystrica
SUMMARY:Ľudské práva na Slovensku: medzi ideálom a praxou
CLASS:PUBLIC
DESCRIPTION:diskusia s verejným ochrancom práv SR Róbertom Dobrovodským
 viac info čoskoro
DTSTAMP:20260424T134602Z
END:VEVENT
END:VCALENDAR