BEGIN:VCALENDAR
VERSION:2.0
PRODID:www.codnes.sk
BEGIN:VEVENT
UID:69ea2e313fd5d
DTSTART:20260508T200000Z
SEQUENCE:0
TRANSP:OPAQUE
LOCATION:Halič
SUMMARY:L.O.V.E. SHOW - Red Cat Cabaret
CLASS:PUBLIC
DESCRIPTION:L.O.V.E. SHOW - Red Cat Cabaret\nShow s veľavravným názvom L
 .O.V.E. otvára novú kapitolu našej kabare
DTSTAMP:20260423T143529Z
END:VEVENT
END:VCALENDAR