BEGIN:VCALENDAR
VERSION:2.0
PRODID:www.codnes.sk
BEGIN:VEVENT
UID:69e72fdb1285e
DTSTART:20190616T183000Z
SEQUENCE:0
TRANSP:OPAQUE
DTEND:20190616T223000Z
LOCATION:Košice
SUMMARY:Listy pre Paula Morrisseyho
CLASS:PUBLIC
DESCRIPTION:Réžia: Armand Rovira (ES)\, 78 min\, 2018Štyri celuloidové 
 listy odoslané z rôznych častí sveta Paulov
DTSTAMP:20260421T080547Z
END:VEVENT
END:VCALENDAR