BEGIN:VCALENDAR
VERSION:2.0
PRODID:www.codnes.sk
BEGIN:VEVENT
UID:69e72d815583b
DTSTART:20250716T180000Z
SEQUENCE:0
TRANSP:OPAQUE
LOCATION:Divín
SUMMARY:LIPA spieva LASICU na hrade
CLASS:PUBLIC
DESCRIPTION:Peter Lipa po prvýkrát na turné po slovenských hradoch a ka
 štieľoch pripomenie odkaz aj dielo svojho
DTSTAMP:20260421T075545Z
END:VEVENT
END:VCALENDAR