BEGIN:VCALENDAR
VERSION:2.0
PRODID:www.codnes.sk
BEGIN:VEVENT
UID:69e7799b0ac26
DTSTART:20260421T180000Z
SEQUENCE:0
TRANSP:OPAQUE
LOCATION:Dobrá Niva
SUMMARY:LA GIOIA - Romantické piesne
CLASS:PUBLIC
DESCRIPTION:LA GIOIA\nRomantické piesne\n16.02.2026 o 18.00h\nDom odborov
  Žilina\n \nLA GIOIA - je pop-operné trio v
DTSTAMP:20260421T132027Z
END:VEVENT
END:VCALENDAR