BEGIN:VCALENDAR
VERSION:2.0
PRODID:www.codnes.sk
BEGIN:VEVENT
UID:69e74281a3891
DTSTART:20260420T180000Z
SEQUENCE:0
TRANSP:OPAQUE
LOCATION:Hontianske Nemce
SUMMARY:LA GIOIA - Romantické piesne
CLASS:PUBLIC
DESCRIPTION:LA GIOIA\nRomantické piesne\n16.02.2026 o 18.00h\nDom odborov
  Žilina\n \nLA GIOIA - je pop-operné trio v
DTSTAMP:20260421T092521Z
END:VEVENT
END:VCALENDAR