BEGIN:VCALENDAR
VERSION:2.0
PRODID:www.codnes.sk
BEGIN:VEVENT
UID:69e4c78f306f3
DTSTART:20260416T190000Z
SEQUENCE:0
TRANSP:OPAQUE
LOCATION:Banská Bystrica
SUMMARY:KONCERT FILMOVEJ HUDBY HANSA ZIMMERA
CLASS:PUBLIC
DESCRIPTION:Nenechajte si ujsť tento jedinečný večer\, ktorý vás zave
 die do sveta najznámejšej filmovej hudby. Na
DTSTAMP:20260419T121615Z
END:VEVENT
END:VCALENDAR