BEGIN:VCALENDAR
VERSION:2.0
PRODID:www.codnes.sk
BEGIN:VEVENT
UID:69e4e89cda0f6
DTSTART:20260314T160000Z
SEQUENCE:0
TRANSP:OPAQUE
DTEND:20260314T200000Z
LOCATION:Rimavská Sobota
SUMMARY:Katarína Nádaská: Ľúbostná mágia | Rimavská Sobota
CLASS:PUBLIC
DESCRIPTION:&nbsp\;Vysvetlíme si\, ako sa pripravovali nápoje a jedlá l
 ásky 💞🥣\, aký bol rozdiel medzi ľúbostnou a
DTSTAMP:20260419T143716Z
END:VEVENT
END:VCALENDAR