BEGIN:VCALENDAR
VERSION:2.0
PRODID:www.codnes.sk
BEGIN:VEVENT
UID:69e88067eaf74
DTSTART:20260502T200000Z
SEQUENCE:0
TRANSP:OPAQUE
LOCATION:Halič
SUMMARY:IMT SMILE - Chateau Tour 26
CLASS:PUBLIC
DESCRIPTION:IMT SMILE – CHATEAU TOUR '26\nSéria exkluzívnych letných k
 oncertov prináša nadčasové hity do krásnych
DTSTAMP:20260422T080143Z
END:VEVENT
END:VCALENDAR