BEGIN:VCALENDAR
VERSION:2.0
PRODID:www.codnes.sk
BEGIN:VEVENT
UID:69ecc1e85be5a
DTSTART:20260430T190000Z
SEQUENCE:0
TRANSP:OPAQUE
LOCATION:Banská Bystrica
SUMMARY:HC MONACObet Banská Bystrica PERMANENTKA 2025/2026
CLASS:PUBLIC
DTSTAMP:20260425T133016Z
END:VEVENT
END:VCALENDAR