BEGIN:VCALENDAR
VERSION:2.0
PRODID:www.codnes.sk
BEGIN:VEVENT
UID:69e93b71d7828
DTSTART:20260422T190000Z
SEQUENCE:0
TRANSP:OPAQUE
DTEND:20260422T235900Z
LOCATION:Banská Bystrica
SUMMARY:Generation of Faith Party
CLASS:PUBLIC
DESCRIPTION:Hudba\, komunita a voľná atmosféra\, kde sa umenie mení na 
 nočný zážitok.Afterparty po výstavách proje
DTSTAMP:20260422T211945Z
END:VEVENT
END:VCALENDAR