BEGIN:VCALENDAR
VERSION:2.0
PRODID:www.codnes.sk
BEGIN:VEVENT
UID:69e4c2611b326
DTSTART:20260314T153000Z
SEQUENCE:0
TRANSP:OPAQUE
LOCATION:Hnúšťa
SUMMARY:Folko a Fialka - Čarovné slovíčka
CLASS:PUBLIC
DESCRIPTION:&amp\;#127926\; Pesničky pre najmenších – Čarovné slov
 íčka!\nAhojte chrobáčikovia\,\nSme nová spievajúca
DTSTAMP:20260419T115409Z
END:VEVENT
END:VCALENDAR