BEGIN:VCALENDAR
VERSION:2.0
PRODID:www.codnes.sk
BEGIN:VEVENT
UID:69e777cb278eb
DTSTART:20260423T183000Z
SEQUENCE:0
TRANSP:OPAQUE
LOCATION:Rimavská Sobota
SUMMARY:Fábry Sándor – Kezeket a paplan fölé! - Rimavská S
CLASS:PUBLIC
DESCRIPTION:Fábry Sándor – Kezeket a paplan fölé!\nFábry Sándor a m
 agyar humor egyik legismertebb alakja.\nÉvtized
DTSTAMP:20260421T131243Z
END:VEVENT
END:VCALENDAR