BEGIN:VCALENDAR
VERSION:2.0
PRODID:www.codnes.sk
BEGIN:VEVENT
UID:69ea284c01684
DTSTART:20260521T190000Z
SEQUENCE:0
TRANSP:OPAQUE
DTEND:20260521T210000Z
LOCATION:Zvolen
SUMMARY:DOBRE BUDE – Talkshow s Rasťom Ilievom\, ZVOLEN
CLASS:PUBLIC
DESCRIPTION:DOBRE BUDE\, Talkshow s Rasťom Ilievom vyráža na druhé turn
 é!&nbsp\;Priprav sa na večer plný humoru\, o
DTSTAMP:20260423T141020Z
END:VEVENT
END:VCALENDAR