BEGIN:VCALENDAR
VERSION:2.0
PRODID:www.codnes.sk
BEGIN:VEVENT
UID:69e4e634ed4dc
DTSTART:20260314T183000Z
SEQUENCE:0
TRANSP:OPAQUE
LOCATION:Banská Bystrica
SUMMARY:DIVADLO Z REGIÓNU
CLASS:PUBLIC
DESCRIPTION:DIVADLO Z REGIÓNU\nPrehliadka amatérskych divadelných súbor
 ov z regiónu Banská Bystrica a Brezno\, kto
DTSTAMP:20260419T142700Z
END:VEVENT
END:VCALENDAR