BEGIN:VCALENDAR
VERSION:2.0
PRODID:www.codnes.sk
BEGIN:VEVENT
UID:69e74327db867
DTSTART:20260314T140000Z
SEQUENCE:0
TRANSP:OPAQUE
LOCATION:Banská Bystrica
SUMMARY:DIVADLO Z REGIÓNU
CLASS:PUBLIC
DESCRIPTION:DIVADLO Z REGIÓNU\nPrehliadka amatérskych divadelných súbor
 ov z regiónu Banská Bystrica a Brezno\, kto
DTSTAMP:20260421T092807Z
END:VEVENT
END:VCALENDAR