BEGIN:VCALENDAR
VERSION:2.0
PRODID:www.codnes.sk
BEGIN:VEVENT
UID:69e4e5dd6f8c5
DTSTART:20260309T193000Z
SEQUENCE:0
TRANSP:OPAQUE
DTEND:20260309T235900Z
LOCATION:Banská Bystrica
SUMMARY:Divadlo z Pasáže: Pískanie v tme
CLASS:PUBLIC
DESCRIPTION:Inscenácia v réžii Šimona Spišáka - Pískanie ako metafor
 a.�Tma ako metafora.�Príbeh ako metafora.�He
DTSTAMP:20260419T142533Z
END:VEVENT
END:VCALENDAR