BEGIN:VCALENDAR
VERSION:2.0
PRODID:www.codnes.sk
BEGIN:VEVENT
UID:69ea2dd6ee085
DTSTART:20260429T190000Z
SEQUENCE:0
TRANSP:OPAQUE
DTEND:20260429T235900Z
LOCATION:Banská Bystrica
SUMMARY:Divadlo Angles Morts: SOM IBA PRÍZRAK•niečia emotívna spomienk
 a na život
CLASS:PUBLIC
DESCRIPTION:tanečno-performatívne dielo o potrebe vzájomného porozumeni
 a dcéry a matky7/10 €Tanečno performatívn
DTSTAMP:20260423T143358Z
END:VEVENT
END:VCALENDAR