BEGIN:VCALENDAR
VERSION:2.0
PRODID:www.codnes.sk
BEGIN:VEVENT
UID:69ea276876ca6
DTSTART:20260429T170000Z
SEQUENCE:0
TRANSP:OPAQUE
DTEND:20260429T210000Z
LOCATION:Badín
SUMMARY:Diskusia s PETROU ZORVAN
CLASS:PUBLIC
DTSTAMP:20260423T140632Z
END:VEVENT
END:VCALENDAR