BEGIN:VCALENDAR
VERSION:2.0
PRODID:www.codnes.sk
BEGIN:VEVENT
UID:69ea2e01946a7
DTSTART:20260502T192100Z
SEQUENCE:0
TRANSP:OPAQUE
DTEND:20260502T235959Z
LOCATION:Banská Bystrica
SUMMARY:Byrokrat - II. PREMIÉRA
CLASS:PUBLIC
DESCRIPTION:Byrokracia. Nástroj\, ktorý má slúžiť ľuďom – ale čo
  ak začne slúžiť sám sebe?Mestské divadlo Banská
DTSTAMP:20260423T143441Z
END:VEVENT
END:VCALENDAR