BEGIN:VCALENDAR
VERSION:2.0
PRODID:www.codnes.sk
BEGIN:VEVENT
UID:69ea2cbe7a18b
DTSTART:20260501T192100Z
SEQUENCE:0
TRANSP:OPAQUE
DTEND:20260501T220000Z
LOCATION:Banská Bystrica
SUMMARY:Byrokrat - I. PREMIÉRA
CLASS:PUBLIC
DESCRIPTION:Byrokracia. Nástroj\, ktorý má slúžiť ľuďom – ale čo
  ak začne slúžiť sám sebe?Mestské divadlo Banská
DTSTAMP:20260423T142918Z
END:VEVENT
END:VCALENDAR