BEGIN:VCALENDAR
VERSION:2.0
PRODID:www.codnes.sk
BEGIN:VEVENT
UID:69ed69aa92319
DTSTART:20210608T180000Z
SEQUENCE:0
TRANSP:OPAQUE
DTEND:20210608T220000Z
LOCATION:Banská Bystrica
SUMMARY:Barbakan 2021: Výstava SLASŤ
CLASS:PUBLIC
DESCRIPTION:Barbakan festival otvorí už tradične výstava\, ktorá tento
  rok ponesie názov SLASŤ a ktorá predstavuj
DTSTAMP:20260426T012602Z
END:VEVENT
END:VCALENDAR