BEGIN:VCALENDAR
VERSION:2.0
PRODID:www.codnes.sk
BEGIN:VEVENT
UID:69e591519d76f
DTSTART:20220815T100000Z
SEQUENCE:0
TRANSP:OPAQUE
DTEND:20220819T220000Z
LOCATION:Banská Bystrica
SUMMARY:Artista 2022
CLASS:PUBLIC
DESCRIPTION:Artista 2022“Hovoríme bez slov”&nbsp\;Tento rok sa opäť 
 stretneme v KC Záhrada na letnom tvorivom táb
DTSTAMP:20260420T023705Z
END:VEVENT
END:VCALENDAR