BEGIN:VCALENDAR
VERSION:2.0
PRODID:www.codnes.sk
BEGIN:VEVENT
UID:69ea17d1a627b
DTSTART:20260428T170000Z
SEQUENCE:0
TRANSP:OPAQUE
DTEND:20260428T210000Z
LOCATION:Banská Bystrica
SUMMARY:(A)politickosť vzdelávacích systémov – pravda\, mýtus alebo 
 ideál?
CLASS:PUBLIC
DESCRIPTION:Večery s filozofiou v Banskej Bystricidiskusia Katedry filozof
 ie FF UMBVečery s filozofiou v Banskej
DTSTAMP:20260423T130001Z
END:VEVENT
END:VCALENDAR