BEGIN:VCALENDAR
VERSION:2.0
PRODID:www.codnes.sk
BEGIN:VEVENT
UID:69ea182971369
DTSTART:20260429T163000Z
SEQUENCE:0
TRANSP:OPAQUE
LOCATION:Brezno
SUMMARY:Adela a štyria chlapi
CLASS:PUBLIC
DESCRIPTION:„Adela a štyria chlapi“ \nAdela VinczeováVladimír Kobie
 lskyFilip TúmaMarek FašiangAdam Bardy\nProdukci
DTSTAMP:20260423T130129Z
END:VEVENT
END:VCALENDAR