BEGIN:VCALENDAR
VERSION:2.0
PRODID:www.codnes.sk
BEGIN:VEVENT
UID:69ea2d64db454
DTSTART:20260429T190000Z
SEQUENCE:0
TRANSP:OPAQUE
LOCATION:Brezno
SUMMARY:Adela a štyria chlapi
CLASS:PUBLIC
DESCRIPTION:„Adela a štyria chlapi“ \nAdela VinczeováVladimír Kobie
 lskyFilip TúmaMarek FašiangAdam Bardy\nProdukci
DTSTAMP:20260423T143204Z
END:VEVENT
END:VCALENDAR