BEGIN:VCALENDAR
VERSION:2.0
PRODID:www.codnes.sk
BEGIN:VEVENT
UID:69ea2cc84ae7c
DTSTART:20260508T200000Z
SEQUENCE:0
TRANSP:OPAQUE
DTEND:20260508T235900Z
LOCATION:Banská Štiavnica
SUMMARY:Adam the World + Mishino
CLASS:PUBLIC
DESCRIPTION:ADAM THE WORLDV piatok 27. februára vyšiel nový album sloven
 ského producenta a interpreta Adam The W
DTSTAMP:20260423T142928Z
END:VEVENT
END:VCALENDAR